BEGIN:VCALENDAR
VERSION:2.0
METHOD:PUBLISH
PRODID:-//Accessible Web Design//My Calendar//http://www.joedolson.com//v//EN';
BEGIN:VEVENT
UID:827-702
LOCATION:岡崎公園
SUMMARY:地震保険啓発キャンペーン
DTSTAMP:20231028T100000
ORGANIZER;CN=jimukyoku:MAILTO:makiura@ocaj.co.jp
DTSTART:20231028T100000
DTEND:20231028T160000
CATEGORIES:General
URL;VALUE=URI:
DESCRIPTION;ENCODING=QUOTED-PRINTABLE:いつも京都代協の事業にご協力いただき感謝いたします。京都代協は、毎年秋に地震保険啓発キャンペーンとして市内などでティシュ配りをしておりましたが、今年度は京都市が開催する総合防災訓練に参加することとなりました。みやこめっせ地下1階にて市民防災啓発ブースをお借りいたします。ここでは地震保険のご案内や、質問コーナー、家族連れの皆様へお菓子を配ったり、ゲームコーナーを設置いたします。&nbsp;実施日時令和5年10月28日（土）11時00～16時00（予定）　（ティシュは2000個あります。なくなり次第終了します。）実施場所みやこめっせ、岡崎公園周辺集合場所みやこめっせ　地下1階第1展示場B面&nbsp; 
END:VEVENT
END:VCALENDAR