BEGIN:VCALENDAR
VERSION:2.0
METHOD:PUBLISH
PRODID:-//Accessible Web Design//My Calendar//http://www.joedolson.com//v//EN';
BEGIN:VEVENT
UID:449-368
LOCATION:北野天満宮
SUMMARY:秋の交通安全スタート式
DTSTAMP:20180921T103000
ORGANIZER;CN=jimukyoku:MAILTO:makiura@ocaj.co.jp
DTSTART:20180921T103000
DTEND:20180921T120000
CATEGORIES:General
URL;VALUE=URI:
DESCRIPTION;ENCODING=QUOTED-PRINTABLE:式典・交通安全教室 
END:VEVENT
END:VCALENDAR